BEGIN:VCALENDAR
VERSION:2.0
PRODID:-//Kantorei St. Peter Zürich - ECPv6.15.20//NONSGML v1.0//EN
CALSCALE:GREGORIAN
METHOD:PUBLISH
X-WR-CALNAME:Kantorei St. Peter Zürich
X-ORIGINAL-URL:https://kantorei-stpeter.ch
X-WR-CALDESC:Veranstaltungen für Kantorei St. Peter Zürich
REFRESH-INTERVAL;VALUE=DURATION:PT1H
X-Robots-Tag:noindex
X-PUBLISHED-TTL:PT1H
BEGIN:VTIMEZONE
TZID:Europe/Paris
BEGIN:DAYLIGHT
TZOFFSETFROM:+0100
TZOFFSETTO:+0200
TZNAME:CEST
DTSTART:20250330T010000
END:DAYLIGHT
BEGIN:STANDARD
TZOFFSETFROM:+0200
TZOFFSETTO:+0100
TZNAME:CET
DTSTART:20251026T010000
END:STANDARD
BEGIN:DAYLIGHT
TZOFFSETFROM:+0100
TZOFFSETTO:+0200
TZNAME:CEST
DTSTART:20260329T010000
END:DAYLIGHT
BEGIN:STANDARD
TZOFFSETFROM:+0200
TZOFFSETTO:+0100
TZNAME:CET
DTSTART:20261025T010000
END:STANDARD
BEGIN:DAYLIGHT
TZOFFSETFROM:+0100
TZOFFSETTO:+0200
TZNAME:CEST
DTSTART:20270328T010000
END:DAYLIGHT
BEGIN:STANDARD
TZOFFSETFROM:+0200
TZOFFSETTO:+0100
TZNAME:CET
DTSTART:20271031T010000
END:STANDARD
END:VTIMEZONE
BEGIN:VEVENT
DTSTART;TZID=Europe/Paris:20260414T193000
DTEND;TZID=Europe/Paris:20260414T213000
DTSTAMP:20260419T161759
CREATED:20250908T145432Z
LAST-MODIFIED:20260414T152147Z
UID:4836-1776195000-1776202200@kantorei-stpeter.ch
SUMMARY:Probe
DESCRIPTION:
URL:https://kantorei-stpeter.ch/event/probe-127/
LOCATION:Lavaterhaus\, St. Peterhofstatt 6\, Zürich\, 8001
CATEGORIES:Probe
ATTACH;FMTTYPE=image/jpeg:https://kantorei-stpeter.ch/wp-content/uploads/2023/06/Lavaterhaus-100x100-1-scaled.jpg
END:VEVENT
BEGIN:VEVENT
DTSTART;TZID=Europe/Paris:20260407T193000
DTEND;TZID=Europe/Paris:20260407T213000
DTSTAMP:20260419T161759
CREATED:20250908T145124Z
LAST-MODIFIED:20260405T025101Z
UID:4834-1775590200-1775597400@kantorei-stpeter.ch
SUMMARY:Probe
DESCRIPTION:Messe solennelle Credo
URL:https://kantorei-stpeter.ch/event/probe-123/
LOCATION:Lavaterhaus\, St. Peterhofstatt 6\, Zürich\, 8001
CATEGORIES:Probe
ATTACH;FMTTYPE=image/jpeg:https://kantorei-stpeter.ch/wp-content/uploads/2023/06/Lavaterhaus-100x100-1-scaled.jpg
END:VEVENT
END:VCALENDAR