BEGIN:VCALENDAR
VERSION:2.0
PRODID:-//Kantorei St. Peter Zürich - ECPv6.15.20//NONSGML v1.0//EN
CALSCALE:GREGORIAN
METHOD:PUBLISH
X-ORIGINAL-URL:https://kantorei-stpeter.ch
X-WR-CALDESC:Veranstaltungen für Kantorei St. Peter Zürich
REFRESH-INTERVAL;VALUE=DURATION:PT1H
X-Robots-Tag:noindex
X-PUBLISHED-TTL:PT1H
BEGIN:VTIMEZONE
TZID:Europe/Paris
BEGIN:DAYLIGHT
TZOFFSETFROM:+0100
TZOFFSETTO:+0200
TZNAME:CEST
DTSTART:20250330T010000
END:DAYLIGHT
BEGIN:STANDARD
TZOFFSETFROM:+0200
TZOFFSETTO:+0100
TZNAME:CET
DTSTART:20251026T010000
END:STANDARD
BEGIN:DAYLIGHT
TZOFFSETFROM:+0100
TZOFFSETTO:+0200
TZNAME:CEST
DTSTART:20260329T010000
END:DAYLIGHT
BEGIN:STANDARD
TZOFFSETFROM:+0200
TZOFFSETTO:+0100
TZNAME:CET
DTSTART:20261025T010000
END:STANDARD
BEGIN:DAYLIGHT
TZOFFSETFROM:+0100
TZOFFSETTO:+0200
TZNAME:CEST
DTSTART:20270328T010000
END:DAYLIGHT
BEGIN:STANDARD
TZOFFSETFROM:+0200
TZOFFSETTO:+0100
TZNAME:CET
DTSTART:20271031T010000
END:STANDARD
BEGIN:DAYLIGHT
TZOFFSETFROM:+0100
TZOFFSETTO:+0200
TZNAME:CEST
DTSTART:20280326T010000
END:DAYLIGHT
BEGIN:STANDARD
TZOFFSETFROM:+0200
TZOFFSETTO:+0100
TZNAME:CET
DTSTART:20281029T010000
END:STANDARD
END:VTIMEZONE
BEGIN:VEVENT
DTSTART;TZID=Europe/Paris:20260614T170000
DTEND;TZID=Europe/Paris:20260614T183000
DTSTAMP:20260419T161913
CREATED:20260202T153145Z
LAST-MODIFIED:20260330T103711Z
UID:5029-1781456400-1781461800@kantorei-stpeter.ch
SUMMARY:PETITE MESSE SOLENNELLE Gioachino Rossini Donaueschingen (D)
DESCRIPTION:Sommerkonzert\nin der Stadtkirche St. Johann Donaueschingen (D) \nPETITE MESSE SOLENNELLE\nGioachino Rossini\nBlanca-Esther Moreno – Sopran\nBarbara Hesse-Bachmaier – Alt\nBerthold Schindler  – Tenor\nWojciech Latocha – Bass \nKantorei St. Peter Zürich\nChor Cappella musicale Donaueschingen \nPatricia Ott – Klavier\nOtmar Bayer – Harmonium \nBeat Schäfer – Leitung \nEintritt: EUR 15.- / 10.- \nVorverkauf Donaueschingen
URL:https://kantorei-stpeter.ch/event/petite-messe-solennelle/
LOCATION:Donaueschingen\, Donaueschingen Stadtkirche St. Johann\, BWB\, Germany
CATEGORIES:Konzert
ATTACH;FMTTYPE=image/jpeg:https://kantorei-stpeter.ch/wp-content/uploads/2026/02/donaueschingen_johann_keyaussen1280x1280_tuk_bassler_20191020.jpg
END:VEVENT
BEGIN:VEVENT
DTSTART;TZID=Europe/Paris:20260616T183000
DTEND;TZID=Europe/Paris:20260616T213000
DTSTAMP:20260419T161913
CREATED:20250908T152938Z
LAST-MODIFIED:20260303T170459Z
UID:4867-1781634600-1781645400@kantorei-stpeter.ch
SUMMARY:Probedirigate (GV verschoben)
DESCRIPTION:
URL:https://kantorei-stpeter.ch/event/generalversammlung/
LOCATION:Lavaterhaus\, St. Peterhofstatt 6\, Zürich\, 8001
CATEGORIES:Probe
ATTACH;FMTTYPE=image/jpeg:https://kantorei-stpeter.ch/wp-content/uploads/2024/05/Vorstand-Mai-2024-IMG_4349-scaled-e1716968572398.jpg
END:VEVENT
BEGIN:VEVENT
DTSTART;VALUE=DATE:20260621
DTEND;VALUE=DATE:20260622
DTSTAMP:20260419T161913
CREATED:20260204T065831Z
LAST-MODIFIED:20260204T065942Z
UID:5060-1782000000-1782086399@kantorei-stpeter.ch
SUMMARY:Vorprobe & Konzert
DESCRIPTION:
URL:https://kantorei-stpeter.ch/event/vorprobe-konzert/
LOCATION:Kirche St. Peter\, St. Peterhofstatt 2\, Zürich\, Zürich\, 8001
CATEGORIES:Probe
ATTACH;FMTTYPE=image/png:https://kantorei-stpeter.ch/wp-content/uploads/2018/03/Kirche_Quadrat_Image_Klein_2.png
END:VEVENT
BEGIN:VEVENT
DTSTART;TZID=Europe/Paris:20260621T170000
DTEND;TZID=Europe/Paris:20260621T183000
DTSTAMP:20260419T161913
CREATED:20250908T153408Z
LAST-MODIFIED:20260416T164806Z
UID:4869-1782061200-1782066600@kantorei-stpeter.ch
SUMMARY:PETITE MESSE SOLENNELLE Gioachino Rossini Stadtkirche St. Peter Zürich
DESCRIPTION:Sommerkonzert in der Stadtkirche St. Peter\nFlyer\nPETITE MESSE SOLENNELLE\nGioachino Rossini\nBlanca-Esther Moreno – Sopran\nBarbara Hesse-Bachmaier – Alt\nBerthold Schindler  – Tenor\nWojciech Latocha – Bass \nKantorei St. Peter Zürich\nChor Cappella musicale Donaueschingen \nPatricia Ott – Klavier\nOtmar Bayer – Harmonium \nBeat Schäfer – Leitung \nAbendkasse: Eintritt: 30 CHF\noder klick hier für: Tickets
URL:https://kantorei-stpeter.ch/event/konzert/
LOCATION:Kirche St. Peter\, St. Peterhofstatt 2\, Zürich\, Zürich\, 8001
CATEGORIES:Konzert
ATTACH;FMTTYPE=image/jpeg:https://kantorei-stpeter.ch/wp-content/uploads/2018/05/Home_Image_Gottesdienst.jpg
END:VEVENT
BEGIN:VEVENT
DTSTART;TZID=Europe/Paris:20260623T193000
DTEND;TZID=Europe/Paris:20260623T213000
DTSTAMP:20260419T161913
CREATED:20250923T133654Z
LAST-MODIFIED:20250923T133654Z
UID:4902-1782243000-1782250200@kantorei-stpeter.ch
SUMMARY:Probe
DESCRIPTION:
URL:https://kantorei-stpeter.ch/event/probe-135/
LOCATION:Lavaterhaus\, St. Peterhofstatt 6\, Zürich\, 8001
CATEGORIES:Probe
ATTACH;FMTTYPE=image/jpeg:https://kantorei-stpeter.ch/wp-content/uploads/2023/06/Lavaterhaus-450x300-1-scaled.jpg
END:VEVENT
BEGIN:VEVENT
DTSTART;TZID=Europe/Paris:20260630T183000
DTEND;TZID=Europe/Paris:20260630T210000
DTSTAMP:20260419T161913
CREATED:20250908T153658Z
LAST-MODIFIED:20260303T170720Z
UID:4871-1782844200-1782853200@kantorei-stpeter.ch
SUMMARY:Sommersingen (Ersatztermin Probedirigat)
DESCRIPTION:
URL:https://kantorei-stpeter.ch/event/offenes-sommersingen-4/
LOCATION:St. Peterhofstatt
CATEGORIES:Probe
ATTACH;FMTTYPE=image/jpeg:https://kantorei-stpeter.ch/wp-content/uploads/2022/06/für-Sommersingen-2022-a-scaled.jpg
END:VEVENT
BEGIN:VEVENT
DTSTART;VALUE=DATE:20260707
DTEND;VALUE=DATE:20260708
DTSTAMP:20260419T161913
CREATED:20250908T153740Z
LAST-MODIFIED:20260311T090107Z
UID:4873-1783382400-1783468799@kantorei-stpeter.ch
SUMMARY:Bummel/ GV Ersatztermin
DESCRIPTION:
URL:https://kantorei-stpeter.ch/event/bummel/
CATEGORIES:Probe
END:VEVENT
BEGIN:VEVENT
DTSTART;VALUE=DATE:20260714
DTEND;VALUE=DATE:20260715
DTSTAMP:20260419T161913
CREATED:20260414T151924Z
LAST-MODIFIED:20260414T151924Z
UID:5208-1783987200-1784073599@kantorei-stpeter.ch
SUMMARY:Ferien
DESCRIPTION:
URL:https://kantorei-stpeter.ch/event/ferien-2/
CATEGORIES:Probe
ATTACH;FMTTYPE=image/png:https://kantorei-stpeter.ch/wp-content/uploads/2018/03/Ferien_Quadrat_Image_Klein.png
END:VEVENT
BEGIN:VEVENT
DTSTART;VALUE=DATE:20260721
DTEND;VALUE=DATE:20260722
DTSTAMP:20260419T161913
CREATED:20260414T151724Z
LAST-MODIFIED:20260414T152340Z
UID:5204-1784592000-1784678399@kantorei-stpeter.ch
SUMMARY:Ferien
DESCRIPTION:
URL:https://kantorei-stpeter.ch/event/ferien/
CATEGORIES:Probe
ATTACH;FMTTYPE=image/png:https://kantorei-stpeter.ch/wp-content/uploads/2018/03/Ferien_Quadrat_Image_Klein.png
END:VEVENT
BEGIN:VEVENT
DTSTART;VALUE=DATE:20260728
DTEND;VALUE=DATE:20260729
DTSTAMP:20260419T161913
CREATED:20260416T125037Z
LAST-MODIFIED:20260416T125037Z
UID:5218-1785196800-1785283199@kantorei-stpeter.ch
SUMMARY:Ferien
DESCRIPTION:
URL:https://kantorei-stpeter.ch/event/ferien-3/
CATEGORIES:Probe
ATTACH;FMTTYPE=image/png:https://kantorei-stpeter.ch/wp-content/uploads/2018/03/Ferien_Quadrat_Image_Klein.png
END:VEVENT
BEGIN:VEVENT
DTSTART;VALUE=DATE:20260804
DTEND;VALUE=DATE:20260805
DTSTAMP:20260419T161913
CREATED:20260416T125246Z
LAST-MODIFIED:20260416T125246Z
UID:5222-1785801600-1785887999@kantorei-stpeter.ch
SUMMARY:Ferien
DESCRIPTION:
URL:https://kantorei-stpeter.ch/event/ferien-4/
CATEGORIES:Probe
ATTACH;FMTTYPE=image/png:https://kantorei-stpeter.ch/wp-content/uploads/2018/03/Ferien_Quadrat_Image_Klein.png
END:VEVENT
BEGIN:VEVENT
DTSTART;VALUE=DATE:20260811
DTEND;VALUE=DATE:20260812
DTSTAMP:20260419T161913
CREATED:20260416T131452Z
LAST-MODIFIED:20260416T131452Z
UID:5229-1786406400-1786492799@kantorei-stpeter.ch
SUMMARY:Ferien
DESCRIPTION:
URL:https://kantorei-stpeter.ch/event/ferien-5/
CATEGORIES:Probe
ATTACH;FMTTYPE=image/png:https://kantorei-stpeter.ch/wp-content/uploads/2018/03/Ferien_Quadrat_Image_Klein.png
END:VEVENT
BEGIN:VEVENT
DTSTART;TZID=Europe/Paris:20260818T193000
DTEND;TZID=Europe/Paris:20260818T213000
DTSTAMP:20260419T161913
CREATED:20260414T152548Z
LAST-MODIFIED:20260414T152548Z
UID:5212-1787081400-1787088600@kantorei-stpeter.ch
SUMMARY:Probe
DESCRIPTION:
URL:https://kantorei-stpeter.ch/event/probe-3/
LOCATION:Lavaterhaus\, St. Peterhofstatt 6\, Zürich\, 8001
CATEGORIES:Probe
ATTACH;FMTTYPE=image/jpeg:https://kantorei-stpeter.ch/wp-content/uploads/2023/06/Lavaterhaus-450x300-1-scaled.jpg
END:VEVENT
BEGIN:VEVENT
DTSTART;TZID=Europe/Paris:20260829T170000
DTEND;TZID=Europe/Paris:20260829T180000
DTSTAMP:20260419T161913
CREATED:20250908T153945Z
LAST-MODIFIED:20250922T154048Z
UID:4875-1788022800-1788026400@kantorei-stpeter.ch
SUMMARY:Gottesdienst
DESCRIPTION:„Summertime: Gleich und doch nicht gleich“
URL:https://kantorei-stpeter.ch/event/gottesdienst-12/
LOCATION:Kirche St. Peter\, St. Peterhofstatt 2\, Zürich\, Zürich\, 8001
CATEGORIES:Probe
ATTACH;FMTTYPE=image/jpeg:https://kantorei-stpeter.ch/wp-content/uploads/2025/07/IMG_7357-scaled.jpeg
END:VEVENT
BEGIN:VEVENT
DTSTART;VALUE=DATE:20260906
DTEND;VALUE=DATE:20260907
DTSTAMP:20260419T161913
CREATED:20250908T154224Z
LAST-MODIFIED:20250923T132347Z
UID:4877-1788652800-1788739199@kantorei-stpeter.ch
SUMMARY:Altstadtgottesdienst- Predigerkirche
DESCRIPTION:
URL:https://kantorei-stpeter.ch/event/altstadtgottesdienst-predigerkirche/
LOCATION:Predigerkirche\, Hirschengraben 50\, Zürich
CATEGORIES:Probe
END:VEVENT
BEGIN:VEVENT
DTSTART;TZID=Europe/Paris:20260926T143000
DTEND;TZID=Europe/Paris:20260927T153000
DTSTAMP:20260419T161913
CREATED:20250908T154537Z
LAST-MODIFIED:20250908T154537Z
UID:4879-1790433000-1790523000@kantorei-stpeter.ch
SUMMARY:Singwochenende-Weggis
DESCRIPTION:Badehose einpacken
URL:https://kantorei-stpeter.ch/event/singwochenende-weggis/
LOCATION:Weggis
CATEGORIES:Probe
ATTACH;FMTTYPE=image/jpeg:https://kantorei-stpeter.ch/wp-content/uploads/2019/04/Rigi-am-See.jpg
END:VEVENT
BEGIN:VEVENT
DTSTART;TZID=Europe/Paris:20261031T170000
DTEND;TZID=Europe/Paris:20261031T180000
DTSTAMP:20260419T161913
CREATED:20250908T154641Z
LAST-MODIFIED:20250923T132309Z
UID:4881-1793466000-1793469600@kantorei-stpeter.ch
SUMMARY:Gottesdienst
DESCRIPTION:
URL:https://kantorei-stpeter.ch/event/gottesdienst-13/
LOCATION:Kirche St. Peter\, St. Peterhofstatt 2\, Zürich\, Zürich\, 8001
CATEGORIES:Probe
ATTACH;FMTTYPE=image/jpeg:https://kantorei-stpeter.ch/wp-content/uploads/2024/05/Kirche_Quadrat_Image_Klein-100x100-1.jpg
END:VEVENT
BEGIN:VEVENT
DTSTART;VALUE=DATE:20261122
DTEND;VALUE=DATE:20261123
DTSTAMP:20260419T161913
CREATED:20250908T154800Z
LAST-MODIFIED:20250923T132249Z
UID:4883-1795305600-1795391999@kantorei-stpeter.ch
SUMMARY:Ewigkeitssonntag mit Vokalensemble
DESCRIPTION:
URL:https://kantorei-stpeter.ch/event/ewigkeitssonntag-mit-vokalensemble/
CATEGORIES:Probe
ATTACH;FMTTYPE=image/jpeg:https://kantorei-stpeter.ch/wp-content/uploads/2024/05/Kirche_Quadrat_Image_Klein-100x100-1.jpg
END:VEVENT
BEGIN:VEVENT
DTSTART;VALUE=DATE:20261212
DTEND;VALUE=DATE:20261213
DTSTAMP:20260419T161913
CREATED:20250908T154942Z
LAST-MODIFIED:20250908T154942Z
UID:4885-1797033600-1797119999@kantorei-stpeter.ch
SUMMARY:Hauptprobe
DESCRIPTION:Bach WO 1-3
URL:https://kantorei-stpeter.ch/event/hauptprobe-7/
CATEGORIES:Probe
ATTACH;FMTTYPE=image/jpeg:https://kantorei-stpeter.ch/wp-content/uploads/2019/05/Kirche-im-Winter-440x278.jpg
END:VEVENT
BEGIN:VEVENT
DTSTART;VALUE=DATE:20261213
DTEND;VALUE=DATE:20261214
DTSTAMP:20260419T161913
CREATED:20250908T155055Z
LAST-MODIFIED:20260108T160015Z
UID:4887-1797120000-1797206399@kantorei-stpeter.ch
SUMMARY:Adventskonzert
DESCRIPTION:Bach WO 1-3
URL:https://kantorei-stpeter.ch/event/adventskonzert/
LOCATION:Kirche St. Peter\, St. Peterhofstatt 2\, Zürich\, Zürich\, 8001
CATEGORIES:Probe
ATTACH;FMTTYPE=image/jpeg:https://kantorei-stpeter.ch/wp-content/uploads/2023/11/Home_Image2023-1920x925b-scaled.jpg
END:VEVENT
BEGIN:VEVENT
DTSTART;VALUE=DATE:20261226
DTEND;VALUE=DATE:20261227
DTSTAMP:20260419T161913
CREATED:20250908T155216Z
LAST-MODIFIED:20260311T090428Z
UID:4889-1798243200-1798329599@kantorei-stpeter.ch
SUMMARY:Gottesdienst
DESCRIPTION:Bach
URL:https://kantorei-stpeter.ch/event/gottesdienst-14/
LOCATION:Kirche St. Peter\, St. Peterhofstatt 2\, Zürich\, Zürich\, 8001
CATEGORIES:Probe
ATTACH;FMTTYPE=image/jpeg:https://kantorei-stpeter.ch/wp-content/uploads/2021/10/Kirche-im-Winter-440x278-b.jpg
END:VEVENT
BEGIN:VEVENT
DTSTART;TZID=Europe/Paris:20270105T193000
DTEND;TZID=Europe/Paris:20270105T213000
DTSTAMP:20260419T161913
CREATED:20260414T151507Z
LAST-MODIFIED:20260414T151507Z
UID:5200-1799177400-1799184600@kantorei-stpeter.ch
SUMMARY:Probe
DESCRIPTION:
URL:https://kantorei-stpeter.ch/event/probe-2/
LOCATION:Lavaterhaus\, St. Peterhofstatt 6\, Zürich\, 8001
CATEGORIES:Probe
ATTACH;FMTTYPE=image/jpeg:https://kantorei-stpeter.ch/wp-content/uploads/2018/07/Lavaterhaus-total-450x300px.jpg
END:VEVENT
END:VCALENDAR