BEGIN:VCALENDAR
VERSION:2.0
PRODID:-//Kantorei St. Peter Zürich - ECPv6.15.20//NONSGML v1.0//EN
CALSCALE:GREGORIAN
METHOD:PUBLISH
X-ORIGINAL-URL:https://kantorei-stpeter.ch
X-WR-CALDESC:Veranstaltungen für Kantorei St. Peter Zürich
REFRESH-INTERVAL;VALUE=DURATION:PT1H
X-Robots-Tag:noindex
X-PUBLISHED-TTL:PT1H
BEGIN:VTIMEZONE
TZID:Europe/Paris
BEGIN:DAYLIGHT
TZOFFSETFROM:+0100
TZOFFSETTO:+0200
TZNAME:CEST
DTSTART:20250330T010000
END:DAYLIGHT
BEGIN:STANDARD
TZOFFSETFROM:+0200
TZOFFSETTO:+0100
TZNAME:CET
DTSTART:20251026T010000
END:STANDARD
BEGIN:DAYLIGHT
TZOFFSETFROM:+0100
TZOFFSETTO:+0200
TZNAME:CEST
DTSTART:20260329T010000
END:DAYLIGHT
BEGIN:STANDARD
TZOFFSETFROM:+0200
TZOFFSETTO:+0100
TZNAME:CET
DTSTART:20261025T010000
END:STANDARD
BEGIN:DAYLIGHT
TZOFFSETFROM:+0100
TZOFFSETTO:+0200
TZNAME:CEST
DTSTART:20270328T010000
END:DAYLIGHT
BEGIN:STANDARD
TZOFFSETFROM:+0200
TZOFFSETTO:+0100
TZNAME:CET
DTSTART:20271031T010000
END:STANDARD
END:VTIMEZONE
BEGIN:VEVENT
DTSTART;TZID=Europe/Paris:20260505T183000
DTEND;TZID=Europe/Paris:20260505T200000
DTSTAMP:20260419T175002
CREATED:20250908T145610Z
LAST-MODIFIED:20260408T140516Z
UID:4838-1778005800-1778011200@kantorei-stpeter.ch
SUMMARY:Registerprobe T+B
DESCRIPTION:Registerprobe Tenor+Bass
URL:https://kantorei-stpeter.ch/event/probe-128/
LOCATION:Lavaterhaus\, St. Peterhofstatt 6\, Zürich\, 8001
CATEGORIES:Probe
ATTACH;FMTTYPE=image/jpeg:https://kantorei-stpeter.ch/wp-content/uploads/2023/06/Lavaterhaus-100x100-1-scaled.jpg
END:VEVENT
BEGIN:VEVENT
DTSTART;TZID=Europe/Paris:20260505T201500
DTEND;TZID=Europe/Paris:20260505T214500
DTSTAMP:20260419T175002
CREATED:20260408T140144Z
LAST-MODIFIED:20260408T140415Z
UID:5189-1778012100-1778017500@kantorei-stpeter.ch
SUMMARY:Registerprobe S+A
DESCRIPTION:Registerprobe Sopran+Alt
URL:https://kantorei-stpeter.ch/event/probe/
LOCATION:Lavaterhaus\, St. Peterhofstatt 6\, Zürich\, 8001
CATEGORIES:Probe
ATTACH;FMTTYPE=image/jpeg:https://kantorei-stpeter.ch/wp-content/uploads/2023/06/Lavaterhaus-100x100-1-scaled.jpg
END:VEVENT
BEGIN:VEVENT
DTSTART;TZID=Europe/Paris:20260512T193000
DTEND;TZID=Europe/Paris:20260512T213000
DTSTAMP:20260419T175002
CREATED:20250908T145703Z
LAST-MODIFIED:20250908T145703Z
UID:4840-1778614200-1778621400@kantorei-stpeter.ch
SUMMARY:Probe
DESCRIPTION:
URL:https://kantorei-stpeter.ch/event/probe-129/
LOCATION:Lavaterhaus\, St. Peterhofstatt 6\, Zürich\, 8001
CATEGORIES:Probe
ATTACH;FMTTYPE=image/jpeg:https://kantorei-stpeter.ch/wp-content/uploads/2023/06/Lavaterhaus-100x100-1-scaled.jpg
END:VEVENT
BEGIN:VEVENT
DTSTART;TZID=Europe/Paris:20260519T193000
DTEND;TZID=Europe/Paris:20260519T213000
DTSTAMP:20260419T175002
CREATED:20250908T145755Z
LAST-MODIFIED:20250908T145755Z
UID:4842-1779219000-1779226200@kantorei-stpeter.ch
SUMMARY:Probe
DESCRIPTION:
URL:https://kantorei-stpeter.ch/event/probe-130/
LOCATION:Lavaterhaus\, St. Peterhofstatt 6\, Zürich\, 8001
CATEGORIES:Probe
ATTACH;FMTTYPE=image/jpeg:https://kantorei-stpeter.ch/wp-content/uploads/2023/06/Lavaterhaus-100x100-1-scaled.jpg
END:VEVENT
BEGIN:VEVENT
DTSTART;TZID=Europe/Paris:20260526T193000
DTEND;TZID=Europe/Paris:20260526T213000
DTSTAMP:20260419T175002
CREATED:20250908T145836Z
LAST-MODIFIED:20250923T133438Z
UID:4844-1779823800-1779831000@kantorei-stpeter.ch
SUMMARY:Probe
DESCRIPTION:
URL:https://kantorei-stpeter.ch/event/probe-131/
LOCATION:Lavaterhaus\, St. Peterhofstatt 6\, Zürich\, 8001
CATEGORIES:Probe
ATTACH;FMTTYPE=image/jpeg:https://kantorei-stpeter.ch/wp-content/uploads/2023/06/Lavaterhaus-100x100-1-scaled.jpg
END:VEVENT
BEGIN:VEVENT
DTSTART;TZID=Europe/Paris:20260530T093000
DTEND;TZID=Europe/Paris:20260530T170000
DTSTAMP:20260419T175002
CREATED:20250908T150137Z
LAST-MODIFIED:20250908T150747Z
UID:4846-1780133400-1780160400@kantorei-stpeter.ch
SUMMARY:Proben-Samstag
DESCRIPTION:anschliessend\, 17:00 Gottesdienst
URL:https://kantorei-stpeter.ch/event/probe-132/
LOCATION:Lavater/Kirche\, St. Peterhofstatt 2\, Zürich\, Zürich\, 8001
CATEGORIES:Probe
ATTACH;FMTTYPE=image/jpeg:https://kantorei-stpeter.ch/wp-content/uploads/2023/06/Lavaterhaus-100x100-1-scaled.jpg
END:VEVENT
BEGIN:VEVENT
DTSTART;TZID=Europe/Paris:20260530T170000
DTEND;TZID=Europe/Paris:20260530T180000
DTSTAMP:20260419T175002
CREATED:20250908T151010Z
LAST-MODIFIED:20260202T154952Z
UID:4854-1780160400-1780164000@kantorei-stpeter.ch
SUMMARY:"PETRINA AT FIVE"
DESCRIPTION:Gottesdienst „PETRINA AT FIVE“ Thema „SINGEN“ im Anschluss an die Probe
URL:https://kantorei-stpeter.ch/event/gottesdienst-11/
LOCATION:Kirche St. Peter\, St. Peterhofstatt 2\, Zürich\, Zürich\, 8001
CATEGORIES:Probe
ATTACH;FMTTYPE=image/jpeg:https://kantorei-stpeter.ch/wp-content/uploads/2021/09/Kirche-347x490-1.jpg
END:VEVENT
BEGIN:VEVENT
DTSTART;TZID=Europe/Paris:20260530T170000
DTEND;TZID=Europe/Paris:20260530T180000
DTSTAMP:20260419T175002
CREATED:20260130T145246Z
LAST-MODIFIED:20260403T113556Z
UID:5016-1780160400-1780164000@kantorei-stpeter.ch
SUMMARY:«PETRINA AT FIVE» SINGEN
DESCRIPTION:WAS DIE SEELE HÖRT: FRÜHLING \nKantorei St. Peter\nPfrn. Cornelia Camichel – Liturgie\nBeat Schäfer – Leitung \nPetrina at five- Inhalt
URL:https://kantorei-stpeter.ch/event/petrina-at-five-singen/
LOCATION:Kirche St. Peter\, St. Peterhofstatt 2\, Zürich\, Zürich\, 8001
CATEGORIES:Konzert
ATTACH;FMTTYPE=application/pdf:https://kantorei-stpeter.ch/wp-content/uploads/2026/01/Petrina_at_Five-Deckblatt.pdf
END:VEVENT
BEGIN:VEVENT
DTSTART;TZID=Europe/Paris:20260531T100000
DTEND;TZID=Europe/Paris:20260531T150000
DTSTAMP:20260419T175002
CREATED:20250709T153348Z
LAST-MODIFIED:20260225T124450Z
UID:4778-1780221600-1780239600@kantorei-stpeter.ch
SUMMARY:Proben-Sonntag
DESCRIPTION:
URL:https://kantorei-stpeter.ch/event/probenwochenende-4/
LOCATION:Lavaterhaus\, St. Peterhofstatt 6\, Zürich\, 8001
CATEGORIES:Probe
ATTACH;FMTTYPE=image/jpeg:https://kantorei-stpeter.ch/wp-content/uploads/2023/06/Lavaterhaus-100x100-1-scaled.jpg
END:VEVENT
END:VCALENDAR